BEGIN:VCALENDAR
VERSION:2.0
PRODID:-//Town of Weaverville - ECPv6.15.17.1//NONSGML v1.0//EN
CALSCALE:GREGORIAN
METHOD:PUBLISH
X-ORIGINAL-URL:https://weavervillenc.org
X-WR-CALDESC:Events for Town of Weaverville
REFRESH-INTERVAL;VALUE=DURATION:PT1H
X-Robots-Tag:noindex
X-PUBLISHED-TTL:PT1H
BEGIN:VTIMEZONE
TZID:America/New_York
BEGIN:DAYLIGHT
TZOFFSETFROM:-0500
TZOFFSETTO:-0400
TZNAME:EDT
DTSTART:20230312T070000
END:DAYLIGHT
BEGIN:STANDARD
TZOFFSETFROM:-0400
TZOFFSETTO:-0500
TZNAME:EST
DTSTART:20231105T060000
END:STANDARD
BEGIN:DAYLIGHT
TZOFFSETFROM:-0500
TZOFFSETTO:-0400
TZNAME:EDT
DTSTART:20240310T070000
END:DAYLIGHT
BEGIN:STANDARD
TZOFFSETFROM:-0400
TZOFFSETTO:-0500
TZNAME:EST
DTSTART:20241103T060000
END:STANDARD
BEGIN:DAYLIGHT
TZOFFSETFROM:-0500
TZOFFSETTO:-0400
TZNAME:EDT
DTSTART:20250309T070000
END:DAYLIGHT
BEGIN:STANDARD
TZOFFSETFROM:-0400
TZOFFSETTO:-0500
TZNAME:EST
DTSTART:20251102T060000
END:STANDARD
END:VTIMEZONE
BEGIN:VEVENT
DTSTART;TZID=America/New_York:20241205T130000
DTEND;TZID=America/New_York:20241205T143000
DTSTAMP:20260421T143033
CREATED:20241125T151132Z
LAST-MODIFIED:20241125T151132Z
UID:10003299-1733403600-1733409000@weavervillenc.org
SUMMARY:Special Called ABC Board Meeting
DESCRIPTION:Weaverville ABC Board\nNotice of Re-Scheduled Regular Board Meeting and Special Called Meeting for December 5\, 2024\, at 1 pm. \nNotice is hereby given that the Weaverville ABC Board regular board meeting scheduled for Wednesday\, December 4\, 2025\, has been rescheduled to a special called meeting to be held on Thursday\, December 5\, 2024\, at 1:00 pm in the Administrative Conference Room at Town Hall\, 30 South Main Street\, Weaverville\, NC. The purpose of this meeting is to hold and conduct its regular quarterly meeting for December 2024. Action may be taken at this meeting. \nRob Chason\, Board Chairman\nNovember 25\, 2024
URL:https://weavervillenc.org/event/special-called-abc-board-meeting/
LOCATION:Town Hall Community Room\, 30 South Main Street\, Weaverville\, NC\, NC
CATEGORIES:events
END:VEVENT
END:VCALENDAR