BEGIN:VCALENDAR
VERSION:2.0
PRODID:-//Town of Weaverville - ECPv6.15.17.1//NONSGML v1.0//EN
CALSCALE:GREGORIAN
METHOD:PUBLISH
X-ORIGINAL-URL:https://weavervillenc.org
X-WR-CALDESC:Events for Town of Weaverville
REFRESH-INTERVAL;VALUE=DURATION:PT1H
X-Robots-Tag:noindex
X-PUBLISHED-TTL:PT1H
BEGIN:VTIMEZONE
TZID:America/New_York
BEGIN:DAYLIGHT
TZOFFSETFROM:-0500
TZOFFSETTO:-0400
TZNAME:EDT
DTSTART:20230312T070000
END:DAYLIGHT
BEGIN:STANDARD
TZOFFSETFROM:-0400
TZOFFSETTO:-0500
TZNAME:EST
DTSTART:20231105T060000
END:STANDARD
BEGIN:DAYLIGHT
TZOFFSETFROM:-0500
TZOFFSETTO:-0400
TZNAME:EDT
DTSTART:20240310T070000
END:DAYLIGHT
BEGIN:STANDARD
TZOFFSETFROM:-0400
TZOFFSETTO:-0500
TZNAME:EST
DTSTART:20241103T060000
END:STANDARD
BEGIN:DAYLIGHT
TZOFFSETFROM:-0500
TZOFFSETTO:-0400
TZNAME:EDT
DTSTART:20250309T070000
END:DAYLIGHT
BEGIN:STANDARD
TZOFFSETFROM:-0400
TZOFFSETTO:-0500
TZNAME:EST
DTSTART:20251102T060000
END:STANDARD
END:VTIMEZONE
BEGIN:VEVENT
DTSTART;TZID=America/New_York:20241207T110000
DTEND;TZID=America/New_York:20241207T130000
DTSTAMP:20260421T143034
CREATED:20240205T190143Z
LAST-MODIFIED:20250904T142731Z
UID:10000170-1733569200-1733576400@weavervillenc.org
SUMMARY:Holiday Parade
DESCRIPTION:Annual Holiday Parade\nWe host our annual Holiday Parade on the first Saturday of December every year. This event is a super sweet celebration of our community and the holiday season. This Main Street romp is entering it’s 38th year. \nFor a long time\, our Holiday Parade was managed by dedicated volunteers in partnership with Town Departments. In order to ensure safety and continuity\, the Town now oversees every aspect of the parade\, relying on a dedicated group of volunteers for planning and day-of support. Please click here if you are interested or able to support day-of needs. \nWeaverville’s annual Holiday Parade will take place on the 1st Saturday in December\, at 11am\, kicking off from the SECU parking lot on N. Main Street.  \nEvery parade entry has submitted an online application and fee and attended a required safety meeting. \nAll questions can be directed to Community Center & Recreation Coordinator\, (828) 658-5816.
URL:https://weavervillenc.org/event/holiday-parade/
LOCATION:Downtown Weaverville\, South Main St\, Weaverville\, NC\, 28787\, United States
CATEGORIES:events,Town Events
END:VEVENT
END:VCALENDAR